BEGIN:VCALENDAR
VERSION:2.0
PRODID:Imitheme.com 
BEGIN:VEVENT
UID:20260425T0431001117405770
DTSTAMP;TZID=UTC:2026-04-25 04:31:00
DTSTART;TZID=America/Los_Angeles:20260530T000000
DTEND;TZID=America/Los_Angeles:20260530T000000
SUMMARY:May Garden Day
LOCATION:
DESCRIPTION:Open at 8:45AM
URL:https://dupontcommunitygarden.org/eventer/may-garden-day/
END:VEVENT
END:VCALENDAR
