BEGIN:VCALENDAR
VERSION:2.0
PRODID:Imitheme.com 
BEGIN:VEVENT
UID:20260425T0602111124935762
DTSTAMP;TZID=UTC:2026-04-25 06:02:11
DTSTART;TZID=America/Los_Angeles:20260425T000000
DTEND;TZID=America/Los_Angeles:20260425T000000
SUMMARY:April Garden Day
LOCATION:
DESCRIPTION:Gate open at 8:45AM
URL:https://dupontcommunitygarden.org/eventer/april-garden-day/
END:VEVENT
END:VCALENDAR
